BEGIN:VCALENDAR
VERSION:2.0
PRODID:-//hacksw/handcal//NONSGML v1.0//EN
BEGIN:VEVENT
SUMMARY:CA ALB
UID:3570a1ef-edd4-4ea0-88ce-a53f4934ec05
DTSTART:20260416T180000Z
DTEND:20260416T200000Z
LOCATION:Localisation   
CATEGORIES:Administratif
STATUS:
URL;VALUE=URI:https://alb-bouguenais.sportsregions.fr/evenements/2026/04/16/ca-alb-2441082
END:VEVENT
END:VCALENDAR
