BEGIN:VCALENDAR
VERSION:2.0
PRODID:-//hacksw/handcal//NONSGML v1.0//EN
BEGIN:VEVENT
SUMMARY:Reunion USEP FAL AMICALE
UID:3cbacb5d-7c23-4543-8a68-02e56fa2bc42
DTSTART:20260528T153000Z
DTEND:20260528T200000Z
LOCATION:Localisation   
CATEGORIES:Administratif
STATUS:
URL;VALUE=URI:https://alb-bouguenais.sportsregions.fr/evenements/2026/05/28/reunion-usep-fal-amicale-2442987
END:VEVENT
END:VCALENDAR
